BEGIN:VCALENDAR
VERSION:2.0
PRODID:-//Addhg - ECPv6.15.11//NONSGML v1.0//EN
CALSCALE:GREGORIAN
METHOD:PUBLISH
X-WR-CALNAME:Addhg
X-ORIGINAL-URL:https://www.addhg.org
X-WR-CALDESC:Eventos para Addhg
REFRESH-INTERVAL;VALUE=DURATION:PT1H
X-Robots-Tag:noindex
X-PUBLISHED-TTL:PT1H
BEGIN:VTIMEZONE
TZID:UTC
BEGIN:STANDARD
TZOFFSETFROM:+0000
TZOFFSETTO:+0000
TZNAME:UTC
DTSTART:20240101T000000
END:STANDARD
END:VTIMEZONE
BEGIN:VEVENT
DTSTART;VALUE=DATE:20250310
DTEND;VALUE=DATE:20250311
DTSTAMP:20260420T180916
CREATED:20221022T173942Z
LAST-MODIFIED:20250309T134121Z
UID:1146-1741564800-1741651199@www.addhg.org
SUMMARY:Dia Municipal para a Igualdade
DESCRIPTION:O evento\, promovido pela Câmara Municipal de Guimarães\, a Associação de Defesa dos Direitos Humanos e a Escola Profissional Bento de Jesus Caraça\, contará com dois painéis de partilha e reflexão onde serão abordados temas de relevo para a sociedade vimaranense\, como sejam a igualdade de género\, a deficiência e a migração. A participação no evento é gratuita\, mas carece de inscrição até ao próximo dia 22 de outubro. As inscrições serão consideradas pela sua ordem de chegada\, estando limitadas à disponibilidade do espaço.
URL:https://www.addhg.org/evento/igualdade/
LOCATION:Guimarães\, Rua da Gila 1370 Airão Santa Maria\, Guimarães\, 4805-477\, Portugal
CATEGORIES:eventos
ATTACH;FMTTYPE=image/webp:https://www.addhg.org/wp-content/uploads/2025/03/360_F_566982066_kY6pO1gLMN6LmsSjtD2CyscHenVOlajF.webp
END:VEVENT
END:VCALENDAR